BEGIN:VCALENDAR
VERSION:2.0
PRODID:-//Somos Lemuria - ECPv6.15.20//NONSGML v1.0//EN
CALSCALE:GREGORIAN
METHOD:PUBLISH
X-ORIGINAL-URL:https://soycecili.com
X-WR-CALDESC:Eventos para Somos Lemuria
REFRESH-INTERVAL;VALUE=DURATION:PT1H
X-Robots-Tag:noindex
X-PUBLISHED-TTL:PT1H
BEGIN:VTIMEZONE
TZID:America/Argentina/Buenos_Aires
BEGIN:STANDARD
TZOFFSETFROM:-0300
TZOFFSETTO:-0300
TZNAME:-03
DTSTART:20250101T000000
END:STANDARD
END:VTIMEZONE
BEGIN:VEVENT
DTSTART;TZID=America/Argentina/Buenos_Aires:20260916T080000
DTEND;TZID=America/Argentina/Buenos_Aires:20260924T170000
DTSTAMP:20260422T185246
CREATED:20260420T074929Z
LAST-MODIFIED:20260420T210856Z
UID:625-1789545600-1790269200@soycecili.com
SUMMARY:Escocia Outlander
DESCRIPTION:8 días\n7 noches\n13 destinos\nSalida: 16 de septiembre\n\n  \nLA GUÍA DEL VIAJE\nEste viaje nació de la misma convicción que guía cada sesión: que el alma recuerda lo que la mente olvidó. Escocia no es solo un destino — es un umbral. \nLos mismos paisajes que Outlander inmortalizó son\, en el fondo\, portales a una memoria más antigua que nosotras. Te invito a recorrerlos juntas. \n@soy.cecili \n👉 Mira el itinerario completo y toda la información sobre esta aventura ingresando en el siguiente enlace: Mas info sobre el viaje
URL:https://soycecili.com/evento/escocia-outlander/
ATTACH;FMTTYPE=image/png:https://soycecili.com/wp-content/uploads/2026/04/Escocia-Outlander.png
END:VEVENT
END:VCALENDAR